BEGIN:VCALENDAR
VERSION:2.0
PRODID:-//Tukios.com/
BEGIN:VEVENT
UID:162d9ea2-9b9a-4a6e-837c-a328e1c689f5@www.nortonfh.net
DTSTAMP:20260421T084928Z
DTSTART:20260129
SUMMARY:Burial
DESCRIPTION:
URL:https://www.nortonfh.net/obituaries/grady-hall
LOCATION: 3945 Middendorf Rd  Hartsville SC 29550
GEO:34.4728143;-80.1459388
END:VEVENT
END:VCALENDAR