BEGIN:VCALENDAR
VERSION:2.0
PRODID:-//Tukios.com/
BEGIN:VEVENT
UID:98f42145-7b83-4528-b505-aab2b36364e3@www.nortonfh.net
DTSTAMP:20260421T084918Z
DTSTART:20260129T200000Z
DTEND:20260129T210000Z
SUMMARY:Funeral Service
DESCRIPTION:
URL:https://www.nortonfh.net/obituaries/grady-hall
LOCATION:Green Hill Church of God of Prophecy 3945 Middendorf Rd  
	Hartsville SC 29550
GEO:34.4728143;-80.1459388
END:VEVENT
END:VCALENDAR