BEGIN:VCALENDAR
VERSION:2.0
PRODID:-//Tukios.com/
BEGIN:VEVENT
UID:17cfaea0-86cf-4e9c-97a8-a9be93a7f0d4@www.nortonfh.net
DTSTAMP:20260423T081504Z
DTSTART:20260129T190000Z
DTEND:20260129T200000Z
SUMMARY:Visitation
DESCRIPTION:
URL:https://www.nortonfh.net/obituaries/grady-hall
LOCATION:Green Hill Church of God of Prophecy 3945 Middendorf Rd  
	Hartsville SC 29550
GEO:34.4728143;-80.1459388
END:VEVENT
END:VCALENDAR